BEGIN:VCALENDAR
VERSION:2.0
PRODID:-//Adventures of Coco Mia - ECPv6.15.14//NONSGML v1.0//EN
CALSCALE:GREGORIAN
METHOD:PUBLISH
X-ORIGINAL-URL:https://adventuresofcocomia.com
X-WR-CALDESC:Events for Adventures of Coco Mia
REFRESH-INTERVAL;VALUE=DURATION:PT1H
X-Robots-Tag:noindex
X-PUBLISHED-TTL:PT1H
BEGIN:VTIMEZONE
TZID:America/Chicago
BEGIN:DAYLIGHT
TZOFFSETFROM:-0600
TZOFFSETTO:-0500
TZNAME:CDT
DTSTART:20240310T080000
END:DAYLIGHT
BEGIN:STANDARD
TZOFFSETFROM:-0500
TZOFFSETTO:-0600
TZNAME:CST
DTSTART:20241103T070000
END:STANDARD
BEGIN:DAYLIGHT
TZOFFSETFROM:-0600
TZOFFSETTO:-0500
TZNAME:CDT
DTSTART:20250309T080000
END:DAYLIGHT
BEGIN:STANDARD
TZOFFSETFROM:-0500
TZOFFSETTO:-0600
TZNAME:CST
DTSTART:20251102T070000
END:STANDARD
BEGIN:DAYLIGHT
TZOFFSETFROM:-0600
TZOFFSETTO:-0500
TZNAME:CDT
DTSTART:20260308T080000
END:DAYLIGHT
BEGIN:STANDARD
TZOFFSETFROM:-0500
TZOFFSETTO:-0600
TZNAME:CST
DTSTART:20261101T070000
END:STANDARD
END:VTIMEZONE
BEGIN:VEVENT
DTSTART;TZID=America/Chicago:20250906T100000
DTEND;TZID=America/Chicago:20250906T113000
DTSTAMP:20260422T183808
CREATED:20250831T144443Z
LAST-MODIFIED:20250910T162811Z
UID:1573-1757152800-1757158200@adventuresofcocomia.com
SUMMARY:Book Launch - Adventures of Coco Mia - LOST!
DESCRIPTION:🐾✨ Join us at The Goodman Center on Madison’s East Side for the tail-wagging release of The Adventures of Coco Mia – LOST! Meet the star herself\, the bouncy and brave Coco Mia\, along with her author\, Mary Thompson. \nAttendees will get the chance to hear Coco Mia’s story\, snap adorable photos\, and take home their very own Adventure Pack—complete with the book\, a Coco Mia bookmark\, a paw backpack\, and a sweet 5×7 picture of Coco Mia! Don’t miss this magical afternoon of friendship\, fun\, and furry charm.
URL:https://adventuresofcocomia.com/event/book-launch-adventures-of-coco-mia-lost/
LOCATION:Goodman Community Center\, 214 Waubesa St.\, Madison\, WI\, 53704\, United States
CATEGORIES:Book Launch,Coco Mia Appearance
ORGANIZER;CN="Adventures of Coco Mia":MAILTO:adventuresofcocomia@gmail.com
END:VEVENT
BEGIN:VEVENT
DTSTART;TZID=America/Chicago:20250913T100000
DTEND;TZID=America/Chicago:20250913T130000
DTSTAMP:20260422T183808
CREATED:20250831T175807Z
LAST-MODIFIED:20250910T165838Z
UID:1656-1757757600-1757768400@adventuresofcocomia.com
SUMMARY:Literatus Book Store
DESCRIPTION:Join Mary and Coco for a book signing and discussion!
URL:https://adventuresofcocomia.com/event/literatus-book-store/
LOCATION:Literatus\, 401 E Main St.\, Watertown\, 53094\, United States
CATEGORIES:Book Signing,Coco Mia Appearance
END:VEVENT
BEGIN:VEVENT
DTSTART;TZID=America/Chicago:20250920T110000
DTEND;TZID=America/Chicago:20250920T130000
DTSTAMP:20260422T183808
CREATED:20250904T164635Z
LAST-MODIFIED:20250910T165630Z
UID:2367-1758366000-1758373200@adventuresofcocomia.com
SUMMARY:Kylee's Gift Cottage
DESCRIPTION:Bring the kids and stop by Kylee’s Gift Cottage for a fun chance to:– Meet the author– Get your very own book personally signed by Mary– Snap a photo and make some special memories!This is a perfect outing for parents\, grandparents\, aunts\, uncles — and of course\, young readers!
URL:https://adventuresofcocomia.com/event/kylees-gift-cottage/
LOCATION:Kylee’s Gift Cottage\, 6711 Frank Lloyd Wright Ave\, Middleton\, WI\, 53562\, United States
CATEGORIES:Book Signing,Coco Mia Appearance
ORGANIZER;CN="Adventures of Coco Mia":MAILTO:adventuresofcocomia@gmail.com
END:VEVENT
BEGIN:VEVENT
DTSTART;TZID=America/Chicago:20250927T100000
DTEND;TZID=America/Chicago:20250927T120000
DTSTAMP:20260422T183808
CREATED:20250903T195125Z
LAST-MODIFIED:20250910T165706Z
UID:2258-1758967200-1758974400@adventuresofcocomia.com
SUMMARY:Oregon Library
DESCRIPTION:Join us at Oregon Library to: \n\nListen to storytime\nMeet the author\nGet your very own book personally signed by Mary!\n\nThis is a perfect outing for parents\, grandparents\, aunts\, uncles — and of course\, young readers!
URL:https://adventuresofcocomia.com/event/oregon-library/
LOCATION:Oregon Public Library\, 200 N Alpine Pkwy\, Oregon\, WI\, 53575\, United States
CATEGORIES:Book Signing,Coco Mia Appearance
ORGANIZER;CN="Adventures of Coco Mia":MAILTO:adventuresofcocomia@gmail.com
END:VEVENT
END:VCALENDAR